BEGIN:VCALENDAR
VERSION:2.0
PRODID:-//CreaMania - ECPv5.0.1//NONSGML v1.0//EN
CALSCALE:GREGORIAN
METHOD:PUBLISH
X-WR-CALNAME:CreaMania
X-ORIGINAL-URL:http://creamania.de
X-WR-CALDESC:Veranstaltungen im CreaMania
BEGIN:VTIMEZONE
TZID:UTC
BEGIN:STANDARD
TZOFFSETFROM:+0000
TZOFFSETTO:+0000
TZNAME:UTC
DTSTART:20190101T000000
END:STANDARD
END:VTIMEZONE
BEGIN:VEVENT
DTSTART;TZID=UTC:20191109T140000
DTEND;TZID=UTC:20191110T180000
DTSTAMP:20260419T102507
CREATED:20191104T201236Z
LAST-MODIFIED:20191104T201236Z
UID:72-1573308000-1573408800@creamania.de
SUMMARY:Martinsmarkt im Haus Tannenberg in Berghausen
DESCRIPTION: \nIch freue mich total darüber dass ich mich beim Martinsmarkt\, im Haus Tannenherg in Berghausen\, mit meinen individuellen Weihnachtsbaumkugeln präsentieren darf. Und noch viel mehr würde ich mich freuen\, wenn Ihr mich an meinem Stand besuchen würdet. Das Wetter soll auf jeden Fall mit spielen 🙂  und dann wird dem nichts mehr im Weg stehen. \nDann sage ich mal bis die Tage \nEure Dany \n
URL:http://creamania.de/event/martinsmarkt-im-haus-tannenberg-in-berghausen
LOCATION:Haus Tannenberg\, Würdener Weg 4-6a\, Gummersbach Berghausen\, NRW\, 51647\, Deutschland
CATEGORIES:Ausstellung
END:VEVENT
END:VCALENDAR